BEGIN:VCALENDAR
VERSION:2.0
PRODID:-//pretix//pretix.eu//
BEGIN:VTIMEZONE
TZID:Europe/Berlin
BEGIN:STANDARD
DTSTART:20001029T040000
RRULE:FREQ=YEARLY;BYDAY=-1SU;BYMONTH=10
TZNAME:CET
TZOFFSETFROM:+0200
TZOFFSETTO:+0100
END:STANDARD
BEGIN:DAYLIGHT
DTSTART:20000326T030000
RRULE:FREQ=YEARLY;BYDAY=-1SU;BYMONTH=3
TZNAME:CEST
TZOFFSETFROM:+0100
TZOFFSETTO:+0200
END:DAYLIGHT
END:VTIMEZONE
BEGIN:VEVENT
UID:pretix-svhowe-jugendraum-4745724@svhowe.vereinsticket.de
DTSTART;TZID=Europe/Berlin:20251107T160000
DTEND;TZID=Europe/Berlin:20251107T170000
DESCRIPTION:Tickets: https://svhowe.vereinsticket.de/jugendraum/4745724/\nV
 eranstalter: SV Hohenwettersbach
DTSTAMP:20260425T230319Z
LOCATION:Vereinsgelände des SVH\, Schilling-von-Canstatt-Str. 1\, 76228 Ka
 rlsruhe
SUMMARY:Jugendraum Buchung Test
END:VEVENT
END:VCALENDAR
