BEGIN:VCALENDAR
VERSION:2.0
PRODID:-//pretix//pretix.eu//
BEGIN:VTIMEZONE
TZID:Europe/Berlin
BEGIN:STANDARD
DTSTART:20001029T040000
RRULE:FREQ=YEARLY;BYDAY=-1SU;BYMONTH=10
TZNAME:CET
TZOFFSETFROM:+0200
TZOFFSETTO:+0100
END:STANDARD
BEGIN:DAYLIGHT
DTSTART:20000326T030000
RRULE:FREQ=YEARLY;BYDAY=-1SU;BYMONTH=3
TZNAME:CEST
TZOFFSETFROM:+0100
TZOFFSETTO:+0200
END:DAYLIGHT
END:VTIMEZONE
BEGIN:VEVENT
UID:pretix-svhowe-vt-hit-shop-4744070@svhowe.vereinsticket.de
DTSTART;TZID=Europe/Berlin:20251126T183000
DTEND;TZID=Europe/Berlin:20251126T193000
DESCRIPTION:Tickets: https://svhowe.vereinsticket.de/vt-hit-shop/4744070/\n
 Veranstalter: SV Hohenwettersbach
DTSTAMP:20260425T230336Z
LOCATION:Lustgartenhalle\, Am Lustgarten 12\, 76228 Karlsruhe
SUMMARY:High-intensity interval Training mit Angela
END:VEVENT
END:VCALENDAR
